BEGIN:VCALENDAR
VERSION:2.0
PRODID:spatie/icalendar-generator
DESCRIPTION:Events from 
X-WR-CALDESC:Events from 
REFRESH-INTERVAL;VALUE=DURATION:PT1440M
X-PUBLISHED-TTL:PT1440M
BEGIN:VTIMEZONE
TZID:America/Chicago
BEGIN:STANDARD
DTSTART:20251102T020000Z
TZOFFSETFROM:-0500
TZOFFSETTO:-0600
END:STANDARD
BEGIN:DAYLIGHT
DTSTART:20260308T020000Z
TZOFFSETFROM:-0600
TZOFFSETTO:-0500
END:DAYLIGHT
END:VTIMEZONE
BEGIN:VTIMEZONE
TZID:UTC
BEGIN:STANDARD
DTSTART:20250725T112850Z
TZOFFSETFROM:+0000
TZOFFSETTO:+0000
END:STANDARD
END:VTIMEZONE
BEGIN:VEVENT
UID:217-41
DTSTAMP:20260421T112850Z
SUMMARY:I will be speaking this Sunday at A House of Deliverance 2327 Wilhu
 rt Ave Dallas\, Tx 75216\, for the 11:00 am service. For more info\, call 
 my cell @ (214)908-3056
LOCATION:A House of Deliverance 2327 Wilhurt Ave  Dallas Texas 75216
ORGANIZER;CN=Brother Prater:MAILTO:brotherprater72@yahoo.com
RRULE:FREQ=WEEKLY;UNTIL=20261031T000000Z
DTSTART;TZID=America/Chicago:20260405T110000
DTEND;TZID=America/Chicago:20260405T143000
X-ALT-DESC;FMTTYPE=TEXT/HTML:I will be speaking this Sunday at A House of D
 eliverance 2327 Wilhurt Ave Dallas\, Tx 75216\, for the 11:00 am service. 
 For more info\, call my cell @ (214)908-3056
CATEGORIES:Speaking Engagement
URL;VALUE=URI:https://brotherprater.com/mc-events/i-will-be-speaking-this-s
 unday-at-a-house-of-deliverance-2327-wilhurt-ave-dallas-tx-75216-for-the-1
 100-am-service-for-more-info-call-my-cell-214908-3056/?mc_id=217
METHOD:PUBLISH
END:VEVENT
END:VCALENDAR